
BEGIN:VCALENDAR
VERSION:2.0
PRODID:-//hacksw/handcal//NONSGML v1.0//EN
CALSCALE:GREGORIAN
BEGIN:VEVENT
DTSTART:20161208T180029Z
DTEND:20161208T190029Z
SUMMARY:Divadelní komedie Domácí@štěstí.hned
DTSTAMP:20260420T195007Z
UID:69e6836f240b7
END:VEVENT
END:VCALENDAR