
BEGIN:VCALENDAR
VERSION:2.0
PRODID:-//hacksw/handcal//NONSGML v1.0//EN
CALSCALE:GREGORIAN
BEGIN:VEVENT
DTSTART:20161115T170019Z
DTEND:20161115T180019Z
SUMMARY:Diashow: Albánie
DTSTAMP:20260420T200607Z
UID:69e6872fe909f
END:VEVENT
END:VCALENDAR