
BEGIN:VCALENDAR
VERSION:2.0
PRODID:-//hacksw/handcal//NONSGML v1.0//EN
CALSCALE:GREGORIAN
BEGIN:VEVENT
DTSTART:20161110T180031Z
DTEND:20161110T190031Z
SUMMARY:Komici s.r.o.  Miloš Knor\, Petr Vydra a Pavel Tomeš
DTSTAMP:20260420T195007Z
UID:69e6836f241b5
END:VEVENT
END:VCALENDAR