
BEGIN:VCALENDAR
VERSION:2.0
PRODID:-//hacksw/handcal//NONSGML v1.0//EN
CALSCALE:GREGORIAN
BEGIN:VEVENT
DTSTART:20161103T170039Z
DTEND:20161103T180039Z
SUMMARY:Diashow: Laponskem na lyžích i pěšky
DTSTAMP:20260422T111026Z
UID:69e8aca265360
END:VEVENT
END:VCALENDAR