
BEGIN:VCALENDAR
VERSION:2.0
PRODID:-//hacksw/handcal//NONSGML v1.0//EN
CALSCALE:GREGORIAN
BEGIN:VEVENT
DTSTART:20161020T180018Z
DTEND:20161020T190018Z
SUMMARY:Drůběží nářez  DS Nakafráno Turnov
DTSTAMP:20260420T212950Z
UID:69e69ace8eb96
END:VEVENT
END:VCALENDAR