
BEGIN:VCALENDAR
VERSION:2.0
PRODID:-//hacksw/handcal//NONSGML v1.0//EN
CALSCALE:GREGORIAN
BEGIN:VEVENT
DTSTART:20160825T200037Z
DTEND:20160825T210037Z
SUMMARY:Letní kino Na Karmeli  Ant-man
DTSTAMP:20260420T213615Z
UID:69e69c4f7983e
END:VEVENT
END:VCALENDAR