
BEGIN:VCALENDAR
VERSION:2.0
PRODID:-//hacksw/handcal//NONSGML v1.0//EN
CALSCALE:GREGORIAN
BEGIN:VEVENT
DTSTART:20160818T200021Z
DTEND:20160818T210021Z
SUMMARY:Letní kino Na Karmeli  Nikdy není pozdě
DTSTAMP:20260420T214701Z
UID:69e69ed525da9
END:VEVENT
END:VCALENDAR