
BEGIN:VCALENDAR
VERSION:2.0
PRODID:-//hacksw/handcal//NONSGML v1.0//EN
CALSCALE:GREGORIAN
BEGIN:VEVENT
DTSTART:20160728T203055Z
DTEND:20160728T213055Z
SUMMARY:Letní kino Na Karmeli  Vykolejená
DTSTAMP:20260422T093305Z
UID:69e895d1b5c42
END:VEVENT
END:VCALENDAR