
BEGIN:VCALENDAR
VERSION:2.0
PRODID:-//hacksw/handcal//NONSGML v1.0//EN
CALSCALE:GREGORIAN
BEGIN:VEVENT
DTSTART:20160714T203022Z
DTEND:20160714T213022Z
SUMMARY:Lída Baarová  PROMÍTÁNÍ přesunuto!!!
DTSTAMP:20260422T094517Z
UID:69e898ad87324
END:VEVENT
END:VCALENDAR