
BEGIN:VCALENDAR
VERSION:2.0
PRODID:-//hacksw/handcal//NONSGML v1.0//EN
CALSCALE:GREGORIAN
BEGIN:VEVENT
DTSTART:20160616T090046Z
DTEND:20160616T100046Z
SUMMARY:Mobilní planetárium v kostele sv. Bonaventury
DTSTAMP:20260422T092739Z
UID:69e8948babce7
END:VEVENT
END:VCALENDAR