
BEGIN:VCALENDAR
VERSION:2.0
PRODID:-//hacksw/handcal//NONSGML v1.0//EN
CALSCALE:GREGORIAN
BEGIN:VEVENT
DTSTART:20160611T090004Z
DTEND:20160611T100004Z
SUMMARY:Mobilní planetárium v kostele sv. Bonaventury
DTSTAMP:20260422T080732Z
UID:69e881c43a56a
END:VEVENT
END:VCALENDAR