
BEGIN:VCALENDAR
VERSION:2.0
PRODID:-//hacksw/handcal//NONSGML v1.0//EN
CALSCALE:GREGORIAN
BEGIN:VEVENT
DTSTART:20160608T090028Z
DTEND:20160608T100028Z
SUMMARY:Mobilní planetárium v kostele sv. Bonaventury + představení pro mateřské školy
DTSTAMP:20260422T074051Z
UID:69e87b83ce4c1
END:VEVENT
END:VCALENDAR