
BEGIN:VCALENDAR
VERSION:2.0
PRODID:-//hacksw/handcal//NONSGML v1.0//EN
CALSCALE:GREGORIAN
BEGIN:VEVENT
DTSTART:20160421T180023Z
DTEND:20160421T190023Z
SUMMARY:Ondřej Hejma a DJ LUCCA
DTSTAMP:20260422T073101Z
UID:69e879356d6de
END:VEVENT
END:VCALENDAR