
BEGIN:VCALENDAR
VERSION:2.0
PRODID:-//hacksw/handcal//NONSGML v1.0//EN
CALSCALE:GREGORIAN
BEGIN:VEVENT
DTSTART:20160224T160745Z
DTEND:20160224T170745Z
SUMMARY:Filmový klub – Kód Enigmy
DTSTAMP:20260422T061608Z
UID:69e867a89f848
END:VEVENT
END:VCALENDAR