
BEGIN:VCALENDAR
VERSION:2.0
PRODID:-//hacksw/handcal//NONSGML v1.0//EN
CALSCALE:GREGORIAN
BEGIN:VEVENT
DTSTART:20160323T160219Z
DTEND:20160323T170219Z
SUMMARY:Ladislav Zibura – 40 dní pěšky do Jeruzaléma: cestovatelská stand- up show
DTSTAMP:20260422T062918Z
UID:69e86abe03e1c
END:VEVENT
END:VCALENDAR