
BEGIN:VCALENDAR
VERSION:2.0
PRODID:-//hacksw/handcal//NONSGML v1.0//EN
CALSCALE:GREGORIAN
BEGIN:VEVENT
DTSTART:20160316T155313Z
DTEND:20160316T165313Z
SUMMARY:Hvězdy Vladimíra Hrona Na Karmeli – one man hudební show
DTSTAMP:20260422T063139Z
UID:69e86b4b1855d
END:VEVENT
END:VCALENDAR