
BEGIN:VCALENDAR
VERSION:2.0
PRODID:-//hacksw/handcal//NONSGML v1.0//EN
CALSCALE:GREGORIAN
BEGIN:VEVENT
DTSTART:20160227T180045Z
DTEND:20160227T190045Z
SUMMARY:Jedinečná divadelní show Pokus o vytvoření osobnosti ze sebe sama – vstupenky v předprodeji!!
DTSTAMP:20260422T063528Z
UID:69e86c307e8bf
END:VEVENT
END:VCALENDAR