
BEGIN:VCALENDAR
VERSION:2.0
PRODID:-//hacksw/handcal//NONSGML v1.0//EN
CALSCALE:GREGORIAN
BEGIN:VEVENT
DTSTART:20160121T154421Z
DTEND:20160121T164421Z
SUMMARY:Diashow Radky Tkáčikové: Barma
DTSTAMP:20260422T052811Z
UID:69e85c6b1789a
END:VEVENT
END:VCALENDAR