
BEGIN:VCALENDAR
VERSION:2.0
PRODID:-//hacksw/handcal//NONSGML v1.0//EN
CALSCALE:GREGORIAN
BEGIN:VEVENT
DTSTART:20140221T125948Z
DTEND:20140221T135948Z
SUMMARY:Poslední dny olympiády na Karmeli: biatlon\, hokejové semifinále a finále
DTSTAMP:20260421T102202Z
UID:69e74fcaa6050
END:VEVENT
END:VCALENDAR