
BEGIN:VCALENDAR
VERSION:2.0
PRODID:-//hacksw/handcal//NONSGML v1.0//EN
CALSCALE:GREGORIAN
BEGIN:VEVENT
DTSTART:20140219T094046Z
DTEND:20140219T104046Z
SUMMARY:Hrajeme dál!! Podpořte náš tým v boji proti USA
DTSTAMP:20260421T102124Z
UID:69e74fa402bf2
END:VEVENT
END:VCALENDAR