
BEGIN:VCALENDAR
VERSION:2.0
PRODID:-//hacksw/handcal//NONSGML v1.0//EN
CALSCALE:GREGORIAN
BEGIN:VEVENT
DTSTART:20140213T105626Z
DTEND:20140213T115626Z
SUMMARY:Hokejové utkání: na Karmel přišly fandit téměř dvě stovky fanoušků
DTSTAMP:20260421T102155Z
UID:69e74fc3c87df
END:VEVENT
END:VCALENDAR