
BEGIN:VCALENDAR
VERSION:2.0
PRODID:-//hacksw/handcal//NONSGML v1.0//EN
CALSCALE:GREGORIAN
BEGIN:VEVENT
DTSTART:20140210T111725Z
DTEND:20140210T121725Z
SUMMARY:Olympijské centrum Na Karmeli fandí našim hokejistům!
DTSTAMP:20260421T084139Z
UID:69e7384329613
END:VEVENT
END:VCALENDAR