
BEGIN:VCALENDAR
VERSION:2.0
PRODID:-//hacksw/handcal//NONSGML v1.0//EN
CALSCALE:GREGORIAN
BEGIN:VEVENT
DTSTART:20140207T183715Z
DTEND:20140207T193715Z
SUMMARY:Přímé přenosy z olympiády Na Karmeli  přijďte fandit i vy!
DTSTAMP:20260421T084105Z
UID:69e73821c926e
END:VEVENT
END:VCALENDAR