
BEGIN:VCALENDAR
VERSION:2.0
PRODID:-//hacksw/handcal//NONSGML v1.0//EN
CALSCALE:GREGORIAN
BEGIN:VEVENT
DTSTART:20140129T212713Z
DTEND:20140129T222713Z
SUMMARY:Centrum Na Karmeli ožije olympiádou v Soči
DTSTAMP:20260421T084105Z
UID:69e73821c8c03
END:VEVENT
END:VCALENDAR