
BEGIN:VCALENDAR
VERSION:2.0
PRODID:-//hacksw/handcal//NONSGML v1.0//EN
CALSCALE:GREGORIAN
BEGIN:VEVENT
DTSTART:20260316T180010Z
DTEND:20260316T190010Z
SUMMARY:Křest kalendáře
DTSTAMP:20260420T091546Z
UID:69e5eec2e3084
END:VEVENT
END:VCALENDAR